BEGIN:VCALENDAR
VERSION:2.0
PRODID:-//La Ronge Arts Council - ECPv6.15.11//NONSGML v1.0//EN
CALSCALE:GREGORIAN
METHOD:PUBLISH
X-WR-CALNAME:La Ronge Arts Council
X-ORIGINAL-URL:https://www.larongearts.com
X-WR-CALDESC:Events for La Ronge Arts Council
REFRESH-INTERVAL;VALUE=DURATION:PT1H
X-Robots-Tag:noindex
X-PUBLISHED-TTL:PT1H
BEGIN:VTIMEZONE
TZID:America/Regina
BEGIN:STANDARD
TZOFFSETFROM:-0600
TZOFFSETTO:-0600
TZNAME:CST
DTSTART:20240101T000000
END:STANDARD
END:VTIMEZONE
BEGIN:VEVENT
DTSTART;TZID=America/Regina:20250304T193000
DTEND;TZID=America/Regina:20250304T220000
DTSTAMP:20260421T041809
CREATED:20241028T204507Z
LAST-MODIFIED:20241028T204507Z
UID:1471-1741116600-1741125600@www.larongearts.com
SUMMARY:BalletJörgen - Sleeping Beauty
DESCRIPTION:Tri-Community Dance Club in partnership with La Ronge Arts Council is thrilled to welcome BalletJörgen Experience the magic of Sleeping Beauty a captivating ballet that tells the enchanting story of Aurora and her prince. Join us as we bring this dazzling performance to Churchill Community High School \n  \nTicket Information Coming Soon!
URL:https://www.larongearts.com/event/balletjorgen-sleeping-beauty/
LOCATION:Churchill Community High School\, 1201 Hildebrand Dr\, La Ronge\, SK\, Canada
CATEGORIES:Dance Performance
ATTACH;FMTTYPE=image/png:https://www.larongearts.com/wp-content/uploads/2024/10/balletjorgen.png
ORGANIZER;CN="La Ronge Arts Council":MAILTO:larongeart@gmail.com
END:VEVENT
END:VCALENDAR