BEGIN:VCALENDAR
VERSION:2.0
PRODID:-//La Ronge Arts Council - ECPv6.15.11//NONSGML v1.0//EN
CALSCALE:GREGORIAN
METHOD:PUBLISH
X-WR-CALNAME:La Ronge Arts Council
X-ORIGINAL-URL:https://www.larongearts.com
X-WR-CALDESC:Events for La Ronge Arts Council
REFRESH-INTERVAL;VALUE=DURATION:PT1H
X-Robots-Tag:noindex
X-PUBLISHED-TTL:PT1H
BEGIN:VTIMEZONE
TZID:America/Regina
BEGIN:STANDARD
TZOFFSETFROM:-0600
TZOFFSETTO:-0600
TZNAME:CST
DTSTART:20240101T000000
END:STANDARD
END:VTIMEZONE
BEGIN:VEVENT
DTSTART;TZID=America/Regina:20251121T190000
DTEND;TZID=America/Regina:20251121T203000
DTSTAMP:20260422T045747
CREATED:20251107T163530Z
LAST-MODIFIED:20251125T193931Z
UID:3008-1763751600-1763757000@www.larongearts.com
SUMMARY:Reception - November 2025 Showcase
DESCRIPTION:✨ You’re Invited ✨\nJoin us for A Special Evening of Art\, Friendship\, and Celebration\n  \n📅 Date: Friday\, November 21\, 2025\n🕕 Time: 7:00 PM\n📍 Location: La Ronge Arts Council Gallery (Alex Robertson Public Library) \n  \nThe La Ronge Arts Council invites you to join us for a very special event this November as we celebrate two wonderful stories from our local arts community. \nWe’re thrilled to honour local artist Roger Jerome\, who will be receiving an honorary lifetime membership from the La Ronge Arts Council. Roger’s creativity\, generosity\, and passion for the arts have touched so many people over the years\, and we’re excited to celebrate all he’s shared with our community. \nAt the same time\, we’ll be sharing a beautiful discovery — a found collection of handmade moccasins from the Robertson family. This meaningful collection highlights the artistry\, history\, and cultural traditions that continue to shape who we are. \nIt feels especially fitting that these two celebrations come together. Roger is a longtime friend of the Robertson family\, and both stories speak to the deep connections between art\, friendship\, and community. \n 
URL:https://www.larongearts.com/event/reception-november-2025-showcase/
LOCATION:La Ronge Arts Council Gallery\, 1212 Hildebrand Dr\, La Ronge\, SK\, S0J1L0\, Canada
CATEGORIES:Award ceremonies,Free Event,Showcase,Social,Special Honors,Visual Art Display
ATTACH;FMTTYPE=image/jpeg:https://www.larongearts.com/wp-content/uploads/2025/11/November-2025-Reception-Event.zip-1.jpg
ORGANIZER;CN="La Ronge Arts Council":MAILTO:larongeart@gmail.com
END:VEVENT
END:VCALENDAR