BEGIN:VCALENDAR
VERSION:2.0
PRODID:-//La Ronge Arts Council - ECPv6.15.11//NONSGML v1.0//EN
CALSCALE:GREGORIAN
METHOD:PUBLISH
X-ORIGINAL-URL:https://www.larongearts.com
X-WR-CALDESC:Events for La Ronge Arts Council
REFRESH-INTERVAL;VALUE=DURATION:PT1H
X-Robots-Tag:noindex
X-PUBLISHED-TTL:PT1H
BEGIN:VTIMEZONE
TZID:America/Regina
BEGIN:STANDARD
TZOFFSETFROM:-0600
TZOFFSETTO:-0600
TZNAME:CST
DTSTART:20220101T000000
END:STANDARD
END:VTIMEZONE
BEGIN:VEVENT
DTSTART;TZID=America/Regina:20230406T183000
DTEND;TZID=America/Regina:20230406T203000
DTSTAMP:20260421T050723
CREATED:20230226T061243Z
LAST-MODIFIED:20230226T061243Z
UID:816-1680805800-1680813000@www.larongearts.com
SUMMARY:Watercolour Paint Night w/ Caron Dubnick
DESCRIPTION:Artist Caron Dubnick will be hosting Watercolour Paint Nights at Churchill Community High School for the month of March\, and the first week of April. \nRegistration is currently full for this event\, but email larongeart@gmail.com to know when the next event is happening. \n  \nSponsored by Sask Lotteries and the Town of La Ronge
URL:https://www.larongearts.com/event/watercolour-paint-night-w-caron-dubnick-5/
LOCATION:Churchill Community High School\, 1201 Hildebrand Dr\, La Ronge\, SK\, Canada
CATEGORIES:Education,Free Event,Painting
ATTACH;FMTTYPE=image/jpeg:https://www.larongearts.com/wp-content/uploads/2023/02/Watercolour-Paint.jpg
ORGANIZER;CN="La Ronge Arts Council":MAILTO:larongeart@gmail.com
END:VEVENT
BEGIN:VEVENT
DTSTART;TZID=America/Regina:20230330T183000
DTEND;TZID=America/Regina:20230330T203000
DTSTAMP:20260421T050723
CREATED:20230226T061213Z
LAST-MODIFIED:20230226T061213Z
UID:813-1680201000-1680208200@www.larongearts.com
SUMMARY:Watercolour Paint Night w/ Caron Dubnick
DESCRIPTION:Artist Caron Dubnick will be hosting Watercolour Paint Nights at Churchill Community High School for the month of March\, and the first week of April. \nRegistration is currently full for this event\, but email larongeart@gmail.com to know when the next event is happening. \n  \nSponsored by Sask Lotteries and the Town of La Ronge
URL:https://www.larongearts.com/event/watercolour-paint-night-w-caron-dubnick-4/
LOCATION:Churchill Community High School\, 1201 Hildebrand Dr\, La Ronge\, SK\, Canada
CATEGORIES:Education,Free Event,Painting
ATTACH;FMTTYPE=image/jpeg:https://www.larongearts.com/wp-content/uploads/2023/02/Watercolour-Paint.jpg
ORGANIZER;CN="La Ronge Arts Council":MAILTO:larongeart@gmail.com
END:VEVENT
BEGIN:VEVENT
DTSTART;TZID=America/Regina:20230323T183000
DTEND;TZID=America/Regina:20230323T203000
DTSTAMP:20260421T050723
CREATED:20230226T061151Z
LAST-MODIFIED:20230226T061151Z
UID:812-1679596200-1679603400@www.larongearts.com
SUMMARY:Watercolour Paint Night w/ Caron Dubnick
DESCRIPTION:Artist Caron Dubnick will be hosting Watercolour Paint Nights at Churchill Community High School for the month of March\, and the first week of April. \nRegistration is currently full for this event\, but email larongeart@gmail.com to know when the next event is happening. \n  \nSponsored by Sask Lotteries and the Town of La Ronge
URL:https://www.larongearts.com/event/watercolour-paint-night-w-caron-dubnick-3/
LOCATION:Churchill Community High School\, 1201 Hildebrand Dr\, La Ronge\, SK\, Canada
CATEGORIES:Education,Free Event,Painting
ATTACH;FMTTYPE=image/jpeg:https://www.larongearts.com/wp-content/uploads/2023/02/Watercolour-Paint.jpg
ORGANIZER;CN="La Ronge Arts Council":MAILTO:larongeart@gmail.com
END:VEVENT
BEGIN:VEVENT
DTSTART;TZID=America/Regina:20230316T183000
DTEND;TZID=America/Regina:20230316T203000
DTSTAMP:20260421T050723
CREATED:20230226T061120Z
LAST-MODIFIED:20230226T061120Z
UID:811-1678991400-1678998600@www.larongearts.com
SUMMARY:Watercolour Paint Night w/ Caron Dubnick
DESCRIPTION:Artist Caron Dubnick will be hosting Watercolour Paint Nights at Churchill Community High School for the month of March\, and the first week of April. \nRegistration is currently full for this event\, but email larongeart@gmail.com to know when the next event is happening. \n  \nSponsored by Sask Lotteries and the Town of La Ronge
URL:https://www.larongearts.com/event/watercolour-paint-night-w-caron-dubnick-2/
LOCATION:Churchill Community High School\, 1201 Hildebrand Dr\, La Ronge\, SK\, Canada
CATEGORIES:Education,Free Event,Painting
ATTACH;FMTTYPE=image/jpeg:https://www.larongearts.com/wp-content/uploads/2023/02/Watercolour-Paint.jpg
ORGANIZER;CN="La Ronge Arts Council":MAILTO:larongeart@gmail.com
END:VEVENT
BEGIN:VEVENT
DTSTART;TZID=America/Regina:20230309T183000
DTEND;TZID=America/Regina:20230309T203000
DTSTAMP:20260421T050723
CREATED:20230226T060913Z
LAST-MODIFIED:20230226T061043Z
UID:804-1678386600-1678393800@www.larongearts.com
SUMMARY:Watercolour Paint Night w/ Caron Dubnick
DESCRIPTION:Artist Caron Dubnick will be hosting Watercolour Paint Nights at Churchill Community High School for the month of March\, and the first week of April. \nRegistration is currently full for this event\, but email larongeart@gmail.com to know when the next event is happening. \n  \nSponsored by Sask Lotteries and the Town of La Ronge
URL:https://www.larongearts.com/event/watercolour-paint-night-w-caron-dubnick/
LOCATION:Churchill Community High School\, 1201 Hildebrand Dr\, La Ronge\, SK\, Canada
CATEGORIES:Education,Free Event,Painting
ATTACH;FMTTYPE=image/jpeg:https://www.larongearts.com/wp-content/uploads/2023/02/Watercolour-Paint.jpg
ORGANIZER;CN="La Ronge Arts Council":MAILTO:larongeart@gmail.com
END:VEVENT
END:VCALENDAR