BEGIN:VCALENDAR
VERSION:2.0
PRODID:-//La Ronge Arts Council - ECPv6.15.11//NONSGML v1.0//EN
CALSCALE:GREGORIAN
METHOD:PUBLISH
X-ORIGINAL-URL:https://www.larongearts.com
X-WR-CALDESC:Events for La Ronge Arts Council
REFRESH-INTERVAL;VALUE=DURATION:PT1H
X-Robots-Tag:noindex
X-PUBLISHED-TTL:PT1H
BEGIN:VTIMEZONE
TZID:America/Regina
BEGIN:STANDARD
TZOFFSETFROM:-0600
TZOFFSETTO:-0600
TZNAME:CST
DTSTART:20220101T000000
END:STANDARD
END:VTIMEZONE
BEGIN:VEVENT
DTSTART;TZID=America/Regina:20260418T183000
DTEND;TZID=America/Regina:20260418T183000
DTSTAMP:20260420T122249
CREATED:20251005T023219Z
LAST-MODIFIED:20260408T201117Z
UID:2769-1776537000-1776537000@www.larongearts.com
SUMMARY:Tommy Charles
DESCRIPTION:NEW LOCATION! \n\n\n\nApril 18\, 2026: Tommy Charles\nTommy Charles may be familiar to some\, as he performed at Craven 2025! Tommy is bringing a classic touch to Country with a soulful tone. He throws listeners back to a “Golden Era”\, while carrying sounds reminiscent of Marty Robbins\, and crooners. Born in the Montréal area and recently calling the Nashville of the north (Calgary) home\, Tommy appeared on the hit TV show\, “La Voix” (The Voice). His talent and acclaim from the competition allowed him to build a fanbase and play to audiences live across the country. Performing both in Canada and in Texas\, Tommy Charles is eager to deliver performances that honor the rich heritage of North American music. \n  \nTickets are on sale!New- you can now buy your personal member ticket at our venues by showing your Membership card. Note: The $5 discount is only for one ticket/membershipMEMBERS $20\, NON-MEMBER ADVANCE $25\, DOOR $30
URL:https://www.larongearts.com/event/tommy-charles/
LOCATION:Eagle Point Resort Event Centre\, 3 Marine Drive\, La Ronge\, SK\, S0J 1L0\, Canada
CATEGORIES:Music
ATTACH;FMTTYPE=image/jpeg:https://www.larongearts.com/wp-content/uploads/2025/10/2025-tommy-charles-1536x1024-1.jpg
ORGANIZER;CN="La Ronge Arts Council":MAILTO:larongeart@gmail.com
END:VEVENT
BEGIN:VEVENT
DTSTART;TZID=America/Regina:20260110T170000
DTEND;TZID=America/Regina:20260110T170000
DTSTAMP:20260420T122249
CREATED:20251003T162113Z
LAST-MODIFIED:20251209T035135Z
UID:2744-1768064400-1768064400@www.larongearts.com
SUMMARY:Travis Dolter - Fundraiser for the La Ronge Long Term Care Facility
DESCRIPTION:Dinner\, A Show & Art Auction \nTickets: $50 \nAll proceeds go to the La Ronge Long Term Care Facility \n\nGet your tickets at the La Ronge General Store\, Marker 47\, Visitors Center (Woodlands & Waterways)\, or online at larongeart@gmail.com \nJoin us for a night of fun and excitement! \n\nFull catered meal\nArt auction\nGames\nBar\nWine pull\n50/50\n\nDoors open at 5:00 PM \nSupper at 5:30 PM \nShow starts at 7:30 PM \nHope to see you there!
URL:https://www.larongearts.com/event/travis-dolter-fundraiser-for-the-la-ronge-long-term-care-facility/
LOCATION:JRMCC (Jonas Roberts Memorial Community Centre)\, 409 Far Reserve Road\, La Ronge\, Saskatchewan\, S0J 1L0\, Canada
CATEGORIES:Music,Social
ATTACH;FMTTYPE=image/jpeg:https://www.larongearts.com/wp-content/uploads/2025/10/Travis-Dolter-Poster-V2-Annalisa.zip-2-scaled.jpg
ORGANIZER;CN="La Ronge Arts Council":MAILTO:larongeart@gmail.com
END:VEVENT
BEGIN:VEVENT
DTSTART;TZID=America/Regina:20251028T183000
DTEND;TZID=America/Regina:20251028T183000
DTSTAMP:20260420T122249
CREATED:20251003T165733Z
LAST-MODIFIED:20251005T022512Z
UID:2759-1761676200-1761676200@www.larongearts.com
SUMMARY:John Muirhead
DESCRIPTION:  🌟 Three Nights of Music & Entertainment! 🌟 \n\n\n\nYou’re invited to a special series of shows featuring an engaging mix of live music\, performances\, and lighthearted entertainment. Each evening will bring its own energy\, giving you three chances to enjoy inspiring talent and a memorable night out. \n\n\n\n📅 Show 1: October 28\, 2025 – John Muirhead\n📅 Show 2: November 17\, 2025 – Aliya Kanani\n📅 Show 3: April 18\, 2026 – Tommy Charles\n\n\n\nBring your friends\, family\, and love of the arts — these shows are for everyone to enjoy. \n\n\n\n✨ Come for one\, or experience the full series — each night offers something new! \n\n\n\n  \nOctober 28\, 2025: John Muirhead \nJohn Muirhead combines powerful songwriting\, poignant storytelling\, audience participation\, and a passion for performance into a compelling live show sure to give any fan of folk/Americana an unforgettable evening. Joined by his close friend and touring partner Trevor Dubois\, John guides his audiences through a performance filled with his own original songs\, covers of old folk favourites\, and interpretations of new pop hits\, all expertly woven together with stories of his life as a travelling troubadour.
URL:https://www.larongearts.com/event/john-muirhead/
LOCATION:Elks Hall\, Husky Ave\, Air Ronge\, SK\, S0J3G0\, Canada
CATEGORIES:Music,Social
ATTACH;FMTTYPE=image/jpeg:https://www.larongearts.com/wp-content/uploads/2025/10/john-muirhead.jpg
ORGANIZER;CN="La Ronge Arts Council":MAILTO:larongeart@gmail.com
END:VEVENT
BEGIN:VEVENT
DTSTART;TZID=America/Regina:20250207T190000
DTEND;TZID=America/Regina:20250207T220000
DTSTAMP:20260420T122249
CREATED:20241028T203718Z
LAST-MODIFIED:20241028T203718Z
UID:1464-1738954800-1738965600@www.larongearts.com
SUMMARY:Rumour Mill
DESCRIPTION:Rumour Mill – led by lifetime friends Anna Katarina and Aline Deanna\, creates inclusive music that resonates globally. As songwriters\, multiinstrumentalists\, producers\, and performers\, they push genre and social norms. Their 4-piece band live show highlights songs from their recent album\, “What She Said.” The show is dynamic and engaging\, with rotating vocals\, 3-part harmonies and varied instrumentation blending traditional fiddle and mandolin with electric guitar and keyboards. Rumour Mill’s goal is to connect with audiences\, making each performance enjoyable and relatable through humour and lyrics. \n  \nTickets are $25 each (12 and under free) or 30$ at the door\, available at Marker 47\, and The La Ronge General Store or by e-transfer to larongeart@gmail.com
URL:https://www.larongearts.com/event/rumour-mill/
LOCATION:Elks Hall\, Husky Ave\, Air Ronge\, SK\, S0J3G0\, Canada
CATEGORIES:Music
ATTACH;FMTTYPE=image/png:https://www.larongearts.com/wp-content/uploads/2024/10/Rumour-Mill.png
ORGANIZER;CN="La Ronge Arts Council":MAILTO:larongeart@gmail.com
END:VEVENT
BEGIN:VEVENT
DTSTART;TZID=America/Regina:20241123T190000
DTEND;TZID=America/Regina:20241123T220000
DTSTAMP:20260420T122249
CREATED:20241028T203315Z
LAST-MODIFIED:20241028T203315Z
UID:1461-1732388400-1732399200@www.larongearts.com
SUMMARY:Prairie Sons
DESCRIPTION:The Prairie Sons – Cellist David Liam Roberts\, and pianist Godwin Friesen\, draw inspiration from the vast Canadian West. They met at the Glenn Gould School of Music and share a deep connection to their Prairie roots. Both awarded and featured in CBC’s Hot 30 Classical Musicians Under 30\, their concert program reflects their expansive perspective. The Prairie Sons’ energy and innovation offer a fresh perspective on their homeland\, inviting you to see the everyday as a miracle in the picturesque Canadian landscape. \n Tickets are $25 each (12 and under free) or 30$ at the door\, available at Marker 47\, and The La Ronge General Store or by e-transfer to larongeart@gmail.com
URL:https://www.larongearts.com/event/prairie-sons/
LOCATION:Eagle Point Resort Event Centre\, 3 Marine Drive\, La Ronge\, SK\, S0J 1L0\, Canada
CATEGORIES:Music
ATTACH;FMTTYPE=image/png:https://www.larongearts.com/wp-content/uploads/2024/10/Prairie-Sons.png
ORGANIZER;CN="La Ronge Arts Council":MAILTO:larongeart@gmail.com
END:VEVENT
BEGIN:VEVENT
DTSTART;VALUE=DATE:20240504
DTEND;VALUE=DATE:20240505
DTSTAMP:20260420T122249
CREATED:20240131T033208Z
LAST-MODIFIED:20240131T033208Z
UID:1146-1714780800-1714867199@www.larongearts.com
SUMMARY:Andrew Allen
DESCRIPTION:Andrew Allen\, accomplished Canadian singer-songwriter\, has left an indelible mark on the music industry with an impressive roster of achievements. Boasting five top-ten singles\, including chart-toppers like “Loving You Tonight\,” “I Wanna Be Your Christmas\,” “What You Wanted\,” “I Want You\,” and “Favorite Christmas Song\,” Andrew’s songwriting prowess is nothing short of exceptional. \nBeyond his solo success\, Andrew has collaborated with industry giants\, including co-writing with the likes of Meghan Trainor\, Rachel Platten and Carly Rae Jepsen. His collaborations extend to the international stage too\, with contributions to notable songs such as the Platinum #1 single “Seasons” by K-Pop Icon\, Taeyeon\, that resonated with audiences globally and the Quadruple Platinum Song “Ad Occhi Chiusi” by Italian Superstar Marco Mengoni. These two chart-toppers not only showcase Andrew’s versatility in working across languages and genres but also underscores his ability to contribute to the success of artists on a global scale. \nHis compositions have not only dominated the airwaves but have found a place in various media\, with songs featured in popular TV shows\, movies\, and commercials. This creativity and ability to connect with audiences across different platforms further solidify Andrew Allen’s status as a sought-after artist in the entertainment industry. \nAndrew’s impact extends to the live stage\, where he’s shared his talents with audiences worldwide. With his dynamic performances and engaging stage presence\, he’s earned himself opportunities to tour with some of the biggest names in the music industry\, sharing the stage with acts like Bruno Mars\, One Republic\, Train\, Andy Grammer\, and the Barenaked Ladies! \nAs Andrew Allen’s musical journey continues to unfold\, his ability to navigate various musical landscapes\, coupled with his dedication to creating memorable experiences\, and a genuine passion for his craft\, ensures that each song and performance is a testament to his commitment to leaving an enduring impact on the world of music and cements Andrew Allen as a true luminary in the world of music.
URL:https://www.larongearts.com/event/andrew-allen/
LOCATION:SK
CATEGORIES:Music
ATTACH;FMTTYPE=image/png:https://www.larongearts.com/wp-content/uploads/2024/01/Andrew-Allen.png
ORGANIZER;CN="La Ronge Arts Council":MAILTO:larongeart@gmail.com
END:VEVENT
BEGIN:VEVENT
DTSTART;VALUE=DATE:20240417
DTEND;VALUE=DATE:20240418
DTSTAMP:20260420T122249
CREATED:20240131T032849Z
LAST-MODIFIED:20240408T210629Z
UID:1143-1713312000-1713398399@www.larongearts.com
SUMMARY:Kinjo & Young
DESCRIPTION:Jory Kinjo brings a unique history to his music and draws from his experiences playing and performing Soul\, Ska\, Reggae and Rhythm & Blues all over the world. Kinjo grew up in Calgary\, AB. playing old-school soul music with long-standing soul band\, Mocking Shadows. In 1999\, he joined the band and warmed the stage for Canadian 3 tours with the B.B. King and other artists such as ZZ Top and Buddy Guy. In 2007\, Kinjo toured Europe playing bass for Montreal’s third-wave ska kings\, the Planet Smashers. The Smashers toured with punk legends Bad Religion and headlined other European festivals. This experience ignited a love for ska & reggae and inspired a new direction in his music. Kinjo formed “JK & the Relays” in 2009 and has toured such acts as Fishbone (LA) and the English Beat (UK). JK & the Relays were breakout performers at the 2012 Montreal Ska Festival and the 2013 Victoria Ska Festival. In 2009\, Kinjo also formed Kiai Music Inc. as an umbrella under which to operate. Kiai Music produced 3 tours for artists such as the Slackers (NYC)\, the Aggrolites (LA) and Chris Murray (LA)\, bringing some these bands to Alberta for the first time. Kiai Music produced many local shows and showcases for developing Calgary and Edmonton artists. In 2010 Kinjo formed a project with his brothers\, Kaley Kinjo\, Tashi Kinjo and Shaw Kinjo. The Kinjo Bros. were invited to perform in Okinawa\, Japan at the Naha Matsuri Festival which was broadcast live on TV and Radio in southern Japan. The Bros. have since performed in Japan many times\, Jory recently returned from Okinawa in the fall 2016 from a Kinjo Bros. performance at the World Uchinanchu Taikai festival. Kinjo has appeared with a wide array of artists from UB40 to South African jazz legend Hugh Masekela. Most recent shows of note would be with Ziggy Marley on his Canadian tours in both 2014 and 2016. \n  \nBy the time Aaron Young was just 23 years old\, he had already produced\, arranged and performed on over 15 albums. It was clear that music wasn’t going to be in his future\, it was going to be his future. With eclectic influences ranging from Lenny Breau\, Jim Croce\, Chet Atkins\, James Taylor\, Danny Gatton\, Bruce Cockburn\, Randy Rhodes\, Glenn Campbell\, Eddie Van Halen\, Muddy Waters\, Pat Metheny\, and countless more\, Young went on to perform in the world-beat stage show Barrage for 5 years\, touring Asia\, Scandanavia\, the UK\, Canada and the US. You may have even seen the odd glimpse of his work on PBS\, CBC\, MTV\, Bravo and the BBC. In the last 30 years Young has produced and/or played on over 180 albums and played on over 7500 live stage performances spanning across the globe. Over the years he has continued to hone and shape his brilliant guitar skills and prolific song writing\, evolving into the well-known and well-respected artist that he is today. To date he has lent his skills as Producer and Guitarist to such groups as Barrage( The World on Stage)\, Sillan & Young\, The Polyjesters\, Simon Fisk\, John Wort Hannam\, \, Tyler Hornby\, Brent Tyler\, The Mocking Shadows\, Jory Kinjo\, Sykamore\, Susan Aglkark\, KellyLee Evans\, Amy Bishop\, Blake Reid Band\, No Roads In documentary\, The Blackbelts and Ghostboy. Aaron’s latest solo endeavor brings together his true prowess as a world class guitarist and singer songwriter. In the spirit of a true entertainer\, Young’s solo show inspires flavors of Tommy Emmanuel’s guitar genius and throw backs to the singer songwriter greats of the 60’s\, 70’s\, 80’s all the way to present day. His live show is truly next level entertainment.
URL:https://www.larongearts.com/event/kinjo-young/
LOCATION:SK
CATEGORIES:Music
ATTACH;FMTTYPE=image/png:https://www.larongearts.com/wp-content/uploads/2024/01/kinjo-and-young.png
ORGANIZER;CN="La Ronge Arts Council":MAILTO:larongeart@gmail.com
END:VEVENT
BEGIN:VEVENT
DTSTART;TZID=America/Regina:20240316T193000
DTEND;TZID=America/Regina:20240316T235900
DTSTAMP:20260420T122249
CREATED:20240131T032520Z
LAST-MODIFIED:20240220T204912Z
UID:1140-1710617400-1710633540@www.larongearts.com
SUMMARY:Piano Heist ft Nico Rhodes & Patrick Courtin
DESCRIPTION:Be ready to be entertained!! 7:30 at Eagle Point Resort – Fun for the whole family! Lifelong friends Nico Rhodes and Patrick Courtin are on a mission to redeem the piano and prove its status as the greatest instrument of all time. The show combines elements of theater\, comedy\, stories\, history and musical madness to create a world of musical wonder. This show is perfect timing as it occurs the Saturday before our local piano festival.
URL:https://www.larongearts.com/event/piano-heist/
LOCATION:Eagle Point Resort Event Centre\, 3 Marine Drive\, La Ronge\, SK\, S0J 1L0\, Canada
CATEGORIES:Music
ATTACH;FMTTYPE=image/jpeg:https://www.larongearts.com/wp-content/uploads/2024/01/Piano-Heist-Photo-1-scaled-1.jpg
ORGANIZER;CN="La Ronge Arts Council":MAILTO:larongeart@gmail.com
END:VEVENT
BEGIN:VEVENT
DTSTART;VALUE=DATE:20230422
DTEND;VALUE=DATE:20230423
DTSTAMP:20260420T122249
CREATED:20230226T062543Z
LAST-MODIFIED:20230226T062543Z
UID:823-1682121600-1682207999@www.larongearts.com
SUMMARY:Martin Kerr
DESCRIPTION:Martin Kerr might be the only artist in the world to have played 400 live shows during the pandemic. When Covid-19 cancelled all his touring and festival plans for the foreseeable future\, he launched his now signature Stay Home Street Concerts as a way of continuing to bring music and joy to the people who needed it the most. \nFrom driveways\, balconies\, and front lawns\, every show finished with the whole street singing ‘You’re Amazing’\, the uplifting\, instantly singable hit from Kerr’s latest album. (‘You’re Amazing’ has earned radio play across Canada\, the UK and the Netherlands and climbed to #4 on the Spotify Viral Chart.) \nMartin’s latest album “Grateful” features a long list of collaborating artists. Celeigh Cardinal\, Cab’Ral\, and Josh Sahunta\, among many others\, make up the supporting cast on Kerr’s latest body of work. “Making an album celebrating collaboration and bringing people together felt like the right thing to do when so many people are feeling the loss of community due to the effects of the pandemic” said Kerr. \nGenre-hopping from folk to hip-hop\, pop\, soul\, funk and back to his intimate singer-songwriter vibe\, each song has a different flavour but a common thread of supporting each other through hard times.   The first single\, Delicate Love features R&B singer Josh Sahunta\, a top-3 finalist from the 2020 CBC searchlight contest. \nIn dark times we all need to find hope.  Somehow\, against all the odds\, Martin Kerr is bringing music to people face-to-face\, building community one street\, one song at a time. \n  \nAdvanced Tickets Available at Woodlands & Waterways Regional Visitor Centre
URL:https://www.larongearts.com/event/martin-kerr/
LOCATION:SK
CATEGORIES:Music
ATTACH;FMTTYPE=image/webp:https://www.larongearts.com/wp-content/uploads/2023/02/Martin-Kerr.webp
ORGANIZER;CN="La Ronge Arts Council":MAILTO:larongeart@gmail.com
END:VEVENT
BEGIN:VEVENT
DTSTART;TZID=America/Regina:20230304T200000
DTEND;TZID=America/Regina:20230304T233000
DTSTAMP:20260420T122249
CREATED:20230226T115816Z
LAST-MODIFIED:20230226T060056Z
UID:789-1677960000-1677972600@www.larongearts.com
SUMMARY:Over The Moon
DESCRIPTION:Alberta’s JUNO award nominated “Over The Moon” are totally immersed in real cowboy country. Their music is a wild ride from 40’s western swing and Appalachian old time\, to cowboy blues\, all featuring their meant-to-be vocals and a wide array of acoustic instruments. Suzanne Levesque and Craig Bignell are both award winning multi-instrumentalists and vocalists. After discovering their near perfect blend of voices\, often moving people to tears upon hearing them sing together\, they stepped over the threshold and Over The Moon was born. Simple and sweet\, their music and lyrics have a common thread that speaks of the Canadian West. \nAdvanced Tickets are $25 and $30 at the door. \nTickets Available from Marker 47\, Woodlands & Waterways\, and by eTransfer to larongeart@gmail.com
URL:https://www.larongearts.com/event/over-the-moon/
LOCATION:Eagle Point Resort Event Centre\, 3 Marine Drive\, La Ronge\, SK\, S0J 1L0\, Canada
CATEGORIES:Music
ATTACH;FMTTYPE=image/jpeg:https://www.larongearts.com/wp-content/uploads/2023/02/DSC00028-1-1024x683-1.jpg
ORGANIZER;CN="La Ronge Arts Council":MAILTO:larongeart@gmail.com
END:VEVENT
END:VCALENDAR