BEGIN:VCALENDAR
VERSION:2.0
PRODID:-//La Ronge Arts Council - ECPv6.15.11//NONSGML v1.0//EN
CALSCALE:GREGORIAN
METHOD:PUBLISH
X-WR-CALNAME:La Ronge Arts Council
X-ORIGINAL-URL:https://www.larongearts.com
X-WR-CALDESC:Events for La Ronge Arts Council
REFRESH-INTERVAL;VALUE=DURATION:PT1H
X-Robots-Tag:noindex
X-PUBLISHED-TTL:PT1H
BEGIN:VTIMEZONE
TZID:America/Regina
BEGIN:STANDARD
TZOFFSETFROM:-0600
TZOFFSETTO:-0600
TZNAME:CST
DTSTART:20250101T000000
END:STANDARD
END:VTIMEZONE
BEGIN:VEVENT
DTSTART;TZID=America/Regina:20260526T190000
DTEND;TZID=America/Regina:20260526T200000
DTSTAMP:20260423T013351
CREATED:20260408T202833Z
LAST-MODIFIED:20260423T033532Z
UID:3173-1779822000-1779825600@www.larongearts.com
SUMMARY:La Ronge Arts Council AGM
DESCRIPTION:📣 Our Annual General Meeting is coming up next month! We are looking for a couple more passionate individuals to join our board. Please RSVP to larongeart@gmail.com if you are interested in attending.
URL:https://www.larongearts.com/event/la-ronge-arts-council-agm/
LOCATION:Alex Robertson Public Library\, La Ronge\, SK\, S0J 1L0\, Canada
CATEGORIES:Meeting
ATTACH;FMTTYPE=image/jpeg:https://www.larongearts.com/wp-content/uploads/2026/04/IMG_0641.jpeg
ORGANIZER;CN="La Ronge Arts Council":MAILTO:larongeart@gmail.com
END:VEVENT
END:VCALENDAR